BEGIN:VCALENDAR
VERSION:2.0
PRODID:-//Ocean Partnership for Children - ECPv6.15.20//NONSGML v1.0//EN
CALSCALE:GREGORIAN
METHOD:PUBLISH
X-WR-CALNAME:Ocean Partnership for Children
X-ORIGINAL-URL:https://www.oceanpartnership.org
X-WR-CALDESC:Events for Ocean Partnership for Children
REFRESH-INTERVAL;VALUE=DURATION:PT1H
X-Robots-Tag:noindex
X-PUBLISHED-TTL:PT1H
BEGIN:VTIMEZONE
TZID:America/New_York
BEGIN:DAYLIGHT
TZOFFSETFROM:-0500
TZOFFSETTO:-0400
TZNAME:EDT
DTSTART:20250309T070000
END:DAYLIGHT
BEGIN:STANDARD
TZOFFSETFROM:-0400
TZOFFSETTO:-0500
TZNAME:EST
DTSTART:20251102T060000
END:STANDARD
BEGIN:DAYLIGHT
TZOFFSETFROM:-0500
TZOFFSETTO:-0400
TZNAME:EDT
DTSTART:20260308T070000
END:DAYLIGHT
BEGIN:STANDARD
TZOFFSETFROM:-0400
TZOFFSETTO:-0500
TZNAME:EST
DTSTART:20261101T060000
END:STANDARD
BEGIN:DAYLIGHT
TZOFFSETFROM:-0500
TZOFFSETTO:-0400
TZNAME:EDT
DTSTART:20270314T070000
END:DAYLIGHT
BEGIN:STANDARD
TZOFFSETFROM:-0400
TZOFFSETTO:-0500
TZNAME:EST
DTSTART:20271107T060000
END:STANDARD
END:VTIMEZONE
BEGIN:VEVENT
DTSTART;TZID=America/New_York:20260316T180000
DTEND;TZID=America/New_York:20260316T190000
DTSTAMP:20260420T030257
CREATED:20260107T182244Z
LAST-MODIFIED:20260107T182246Z
UID:10000044-1773684000-1773687600@www.oceanpartnership.org
SUMMARY:Yoga for Teens Youth Group
DESCRIPTION:Supportive Yoga Group Designed to Explore Self-Care and Emotional Well-being.  Learn Practical Tools to Manage Stress\, Build Confidence\, and Feel More Connected\, Seen and Accepted.\n\n\n\nWHEN: Mondays from January 26th – March 16th from 6pm to 7pmWHERE: OPC OfficeWHO CAN JOIN: Open to all teens in Ocean County – no experience necessary \n\n\n\nFREE to all attendees! Supplies will be provided at no cost. \n\n\n\n\n\n\nYoga For Teens Winter 2025 Flyer-ENGEnglish Download\n\n\n\n\n\nYoga For Teens Winter 2025 Flyer-SPANSpanish Download\n\n\n\n\n\n\nQUESTIONS:Contact Kate Dorando (lead facilitator): kdorando@oceanpartnership.org
URL:https://www.oceanpartnership.org/event/yoga-for-teens-youth-group/2026-03-16/
LOCATION:Ocean Partnership for Children\, 36 Washington St\, Toms River\, New Jersey\, 08753\, United States
END:VEVENT
BEGIN:VEVENT
DTSTART;TZID=America/New_York:20260311T170000
DTEND;TZID=America/New_York:20260311T180000
DTSTAMP:20260420T030257
CREATED:20260128T150403Z
LAST-MODIFIED:20260128T152648Z
UID:10000017-1773248400-1773252000@www.oceanpartnership.org
SUMMARY:Ocean Partnership for Children Connections
DESCRIPTION:Social Skills Group Now Enrolling!\n\n\n\nWhat is Connections?\n\n\n\nConnections is a free social wellness group aimed at reducing social isolation and stigmatization; featuring staff and programming trained for the I/DD community.  This group is open to any Ocean County residents between the ages of 10-21. \n\n\n\nGroup goals include: social connections\, emotional wellness & personal value\, physical wellness\, and caregiver support \n\n\n\nPlease direct any inquiries to connections@oceanpartnership.org or any Lead Facilitator:Jess Pepe: 732-202-1585\, ext. 130\, jpepe@oceanpartnership.orgKelly Joseph: 732-202-1585 ext. 230\, kjoseph@oceanpartnership.orgMelinda Santiago-Owens: 732-202-1585\, ext. 164\, msantaigo@oceanpartnership.org \n\n\n\nGrant funded by Ocean County’s Department of Human Services\, in conjunction with Ocean Partnership for Children\, Inc. – the Ocean County Care Management Org. \n\n\n\n\n\n\n\n\nConnections Flyer 2026-ENGEnglish Download\n\n\n\n\n\nConnections Flyer 2026-SPANSpanish Download
URL:https://www.oceanpartnership.org/event/ocean-partnership-for-children-connections-4/2026-03-11/
LOCATION:Ocean Partnership for Children\, 36 Washington St\, Toms River\, New Jersey\, 08753\, United States
ATTACH;FMTTYPE=image/jpeg:https://www.oceanpartnership.org/wp-content/uploads/2025/11/Screenshot-2026-01-28-at-9.57.47-AM.jpg
END:VEVENT
BEGIN:VEVENT
DTSTART;TZID=America/New_York:20260310T163000
DTEND;TZID=America/New_York:20260310T180000
DTSTAMP:20260420T030257
CREATED:20260217T185425Z
LAST-MODIFIED:20260217T190139Z
UID:10000085-1773160200-1773165600@www.oceanpartnership.org
SUMMARY:Mindful Creations Youth Group
DESCRIPTION:MINDFUL CREATIONS IS A PLACE WHERE YOUTH CAN EXPRESS THEMSELVES WHILE LEARNING AND DISCUSSING THE BENEFITS OF CREATIVITY FOR OUR MENTAL HEALTH/OVERALL WELLNESS. THE GROUP STRIVES FOR CONNECTION\, INSPIRATION\, IMAGINATION\, AND CONFIDENCE IN SHARING A PIECE OF OURSELVES WITH THE WORLD. FREE AND OPEN TO ANY YOUTH IN OCEAN COUNTY AGES 14-18!
URL:https://www.oceanpartnership.org/event/mindful-creations-youth-group/2026-03-10/
LOCATION:Ocean Partnership for Children\, 36 Washington Street\, Toms River\, New Jersey\, 08753
ORGANIZER;CN="Ocean Partnership for Children":MAILTO:info@oceanpartnership.org
END:VEVENT
BEGIN:VEVENT
DTSTART;TZID=America/New_York:20260309T180000
DTEND;TZID=America/New_York:20260309T190000
DTSTAMP:20260420T030257
CREATED:20260107T182244Z
LAST-MODIFIED:20260107T182246Z
UID:10000043-1773079200-1773082800@www.oceanpartnership.org
SUMMARY:Yoga for Teens Youth Group
DESCRIPTION:Supportive Yoga Group Designed to Explore Self-Care and Emotional Well-being.  Learn Practical Tools to Manage Stress\, Build Confidence\, and Feel More Connected\, Seen and Accepted.\n\n\n\nWHEN: Mondays from January 26th – March 16th from 6pm to 7pmWHERE: OPC OfficeWHO CAN JOIN: Open to all teens in Ocean County – no experience necessary \n\n\n\nFREE to all attendees! Supplies will be provided at no cost. \n\n\n\n\n\n\nYoga For Teens Winter 2025 Flyer-ENGEnglish Download\n\n\n\n\n\nYoga For Teens Winter 2025 Flyer-SPANSpanish Download\n\n\n\n\n\n\nQUESTIONS:Contact Kate Dorando (lead facilitator): kdorando@oceanpartnership.org
URL:https://www.oceanpartnership.org/event/yoga-for-teens-youth-group/2026-03-09/
LOCATION:Ocean Partnership for Children\, 36 Washington St\, Toms River\, New Jersey\, 08753\, United States
END:VEVENT
BEGIN:VEVENT
DTSTART;TZID=America/New_York:20260304T170000
DTEND;TZID=America/New_York:20260304T180000
DTSTAMP:20260420T030257
CREATED:20260220T180601Z
LAST-MODIFIED:20260220T180854Z
UID:10000098-1772643600-1772647200@www.oceanpartnership.org
SUMMARY:Your Authentic Self Youth Group
DESCRIPTION:AN LGBTQ+ SUPPORT GROUP FOR YOUTH 13-19\, OPEN AND FREE TO ALL YOUTH IN OCEAN COUNTY!
URL:https://www.oceanpartnership.org/event/your-authentic-self/2026-03-04/
LOCATION:New Jersey
ORGANIZER;CN="Ocean Partnership for Children":MAILTO:info@oceanpartnership.org
END:VEVENT
BEGIN:VEVENT
DTSTART;TZID=America/New_York:20260303T163000
DTEND;TZID=America/New_York:20260303T180000
DTSTAMP:20260420T030257
CREATED:20260217T185425Z
LAST-MODIFIED:20260217T190139Z
UID:10000084-1772555400-1772560800@www.oceanpartnership.org
SUMMARY:Mindful Creations Youth Group
DESCRIPTION:MINDFUL CREATIONS IS A PLACE WHERE YOUTH CAN EXPRESS THEMSELVES WHILE LEARNING AND DISCUSSING THE BENEFITS OF CREATIVITY FOR OUR MENTAL HEALTH/OVERALL WELLNESS. THE GROUP STRIVES FOR CONNECTION\, INSPIRATION\, IMAGINATION\, AND CONFIDENCE IN SHARING A PIECE OF OURSELVES WITH THE WORLD. FREE AND OPEN TO ANY YOUTH IN OCEAN COUNTY AGES 14-18!
URL:https://www.oceanpartnership.org/event/mindful-creations-youth-group/2026-03-03/
LOCATION:Ocean Partnership for Children\, 36 Washington Street\, Toms River\, New Jersey\, 08753
ORGANIZER;CN="Ocean Partnership for Children":MAILTO:info@oceanpartnership.org
END:VEVENT
BEGIN:VEVENT
DTSTART;TZID=America/New_York:20260302T180000
DTEND;TZID=America/New_York:20260302T190000
DTSTAMP:20260420T030257
CREATED:20260107T182244Z
LAST-MODIFIED:20260107T182246Z
UID:10000042-1772474400-1772478000@www.oceanpartnership.org
SUMMARY:Yoga for Teens Youth Group
DESCRIPTION:Supportive Yoga Group Designed to Explore Self-Care and Emotional Well-being.  Learn Practical Tools to Manage Stress\, Build Confidence\, and Feel More Connected\, Seen and Accepted.\n\n\n\nWHEN: Mondays from January 26th – March 16th from 6pm to 7pmWHERE: OPC OfficeWHO CAN JOIN: Open to all teens in Ocean County – no experience necessary \n\n\n\nFREE to all attendees! Supplies will be provided at no cost. \n\n\n\n\n\n\nYoga For Teens Winter 2025 Flyer-ENGEnglish Download\n\n\n\n\n\nYoga For Teens Winter 2025 Flyer-SPANSpanish Download\n\n\n\n\n\n\nQUESTIONS:Contact Kate Dorando (lead facilitator): kdorando@oceanpartnership.org
URL:https://www.oceanpartnership.org/event/yoga-for-teens-youth-group/2026-03-02/
LOCATION:Ocean Partnership for Children\, 36 Washington St\, Toms River\, New Jersey\, 08753\, United States
END:VEVENT
BEGIN:VEVENT
DTSTART;TZID=America/New_York:20260301T130000
DTEND;TZID=America/New_York:20260301T170000
DTSTAMP:20260420T030257
CREATED:20260107T174017Z
LAST-MODIFIED:20260108T215736Z
UID:10000024-1772370000-1772384400@www.oceanpartnership.org
SUMMARY:Rock for a Cause
DESCRIPTION:Benefiting Ocean Partnership for Children \n\n\n\n\n\nMusic by SneekBoxReceive exclusive cup with happy hour prices & first set of raffle tickets! \n\n\n\nGift Basket Raffles and 50/50! \n\n\n\n\n\n\nRock for A Cause FlyerDownload
URL:https://www.oceanpartnership.org/event/rock-for-a-cause/
LOCATION:Hemingways Seaside Heights\, 612 Boulevard\, Seaside Heights\, New Jersey\, 08751\, United States
END:VEVENT
BEGIN:VEVENT
DTSTART;TZID=America/New_York:20260223T180000
DTEND;TZID=America/New_York:20260223T190000
DTSTAMP:20260420T030257
CREATED:20260107T182244Z
LAST-MODIFIED:20260107T182246Z
UID:10000041-1771869600-1771873200@www.oceanpartnership.org
SUMMARY:Yoga for Teens Youth Group
DESCRIPTION:Supportive Yoga Group Designed to Explore Self-Care and Emotional Well-being.  Learn Practical Tools to Manage Stress\, Build Confidence\, and Feel More Connected\, Seen and Accepted.\n\n\n\nWHEN: Mondays from January 26th – March 16th from 6pm to 7pmWHERE: OPC OfficeWHO CAN JOIN: Open to all teens in Ocean County – no experience necessary \n\n\n\nFREE to all attendees! Supplies will be provided at no cost. \n\n\n\n\n\n\nYoga For Teens Winter 2025 Flyer-ENGEnglish Download\n\n\n\n\n\nYoga For Teens Winter 2025 Flyer-SPANSpanish Download\n\n\n\n\n\n\nQUESTIONS:Contact Kate Dorando (lead facilitator): kdorando@oceanpartnership.org
URL:https://www.oceanpartnership.org/event/yoga-for-teens-youth-group/2026-02-23/
LOCATION:Ocean Partnership for Children\, 36 Washington St\, Toms River\, New Jersey\, 08753\, United States
END:VEVENT
BEGIN:VEVENT
DTSTART;TZID=America/New_York:20260219T173000
DTEND;TZID=America/New_York:20260219T183000
DTSTAMP:20260420T030257
CREATED:20260217T183221Z
LAST-MODIFIED:20260217T183226Z
UID:10000022-1771522200-1771525800@www.oceanpartnership.org
SUMMARY:Money Moves for Teens
DESCRIPTION:Join Us for a free Three-Part Workshop on Financial Literacy and take control of your financial future!  Open to Youth Ages 16-21.\n\n\n\nCourse Topics: \n\n\n\n\nWeek 1: Credit\n\n\n\nWeek 2: Budget/Saving\n\n\n\nWeek 3: Fraud\n\n\n\n\nFood and Refreshments Provided! \n\n\n\nFinancial Literacy Course Flyer.pdf
URL:https://www.oceanpartnership.org/event/money-moves-for-teens-2/
LOCATION:Ocean Partnership for Children\, 36 Washington St\, Toms River\, New Jersey\, 08753\, United States
END:VEVENT
BEGIN:VEVENT
DTSTART;TZID=America/New_York:20260216T180000
DTEND;TZID=America/New_York:20260216T190000
DTSTAMP:20260420T030257
CREATED:20260107T182244Z
LAST-MODIFIED:20260107T182246Z
UID:10000040-1771264800-1771268400@www.oceanpartnership.org
SUMMARY:Yoga for Teens Youth Group
DESCRIPTION:Supportive Yoga Group Designed to Explore Self-Care and Emotional Well-being.  Learn Practical Tools to Manage Stress\, Build Confidence\, and Feel More Connected\, Seen and Accepted.\n\n\n\nWHEN: Mondays from January 26th – March 16th from 6pm to 7pmWHERE: OPC OfficeWHO CAN JOIN: Open to all teens in Ocean County – no experience necessary \n\n\n\nFREE to all attendees! Supplies will be provided at no cost. \n\n\n\n\n\n\nYoga For Teens Winter 2025 Flyer-ENGEnglish Download\n\n\n\n\n\nYoga For Teens Winter 2025 Flyer-SPANSpanish Download\n\n\n\n\n\n\nQUESTIONS:Contact Kate Dorando (lead facilitator): kdorando@oceanpartnership.org
URL:https://www.oceanpartnership.org/event/yoga-for-teens-youth-group/2026-02-16/
LOCATION:Ocean Partnership for Children\, 36 Washington St\, Toms River\, New Jersey\, 08753\, United States
END:VEVENT
BEGIN:VEVENT
DTSTART;TZID=America/New_York:20260210T163000
DTEND;TZID=America/New_York:20260210T180000
DTSTAMP:20260420T030257
CREATED:20260107T165500Z
LAST-MODIFIED:20260108T210743Z
UID:10000023-1770741000-1770746400@www.oceanpartnership.org
SUMMARY:Galentine's Day Girls Empowerment Group Workshop
DESCRIPTION:OPC’S Girl Empowerment Group is hosting a free\, one-night Special Galentine’s Event for Ocean County Youth Ages 9-17 focused on self-care\, friendship\, and fun activities!\n\n\n\n\n\n\nGEG Galentine’s Day Workshop 2026-ENGEnglish Download\n\n\n\n\n\nGEG Galentine’s Day Workshop 2026-SPANSpanish Download\n\n\n\n\n\n\nQuestions? Contact Lead FacilitatorKate Martinez at kmartinez@oceanpartnership.org
URL:https://www.oceanpartnership.org/event/galentines-day-girls-empowerment-group-workshop/
LOCATION:Ocean County Youth Center\, 165 Sunset Ave\, Toms River\, New Jersey\, 08755\, United States
END:VEVENT
BEGIN:VEVENT
DTSTART;TZID=America/New_York:20260209T180000
DTEND;TZID=America/New_York:20260209T190000
DTSTAMP:20260420T030257
CREATED:20260107T182244Z
LAST-MODIFIED:20260107T182246Z
UID:10000039-1770660000-1770663600@www.oceanpartnership.org
SUMMARY:Yoga for Teens Youth Group
DESCRIPTION:Supportive Yoga Group Designed to Explore Self-Care and Emotional Well-being.  Learn Practical Tools to Manage Stress\, Build Confidence\, and Feel More Connected\, Seen and Accepted.\n\n\n\nWHEN: Mondays from January 26th – March 16th from 6pm to 7pmWHERE: OPC OfficeWHO CAN JOIN: Open to all teens in Ocean County – no experience necessary \n\n\n\nFREE to all attendees! Supplies will be provided at no cost. \n\n\n\n\n\n\nYoga For Teens Winter 2025 Flyer-ENGEnglish Download\n\n\n\n\n\nYoga For Teens Winter 2025 Flyer-SPANSpanish Download\n\n\n\n\n\n\nQUESTIONS:Contact Kate Dorando (lead facilitator): kdorando@oceanpartnership.org
URL:https://www.oceanpartnership.org/event/yoga-for-teens-youth-group/2026-02-09/
LOCATION:Ocean Partnership for Children\, 36 Washington St\, Toms River\, New Jersey\, 08753\, United States
END:VEVENT
BEGIN:VEVENT
DTSTART;TZID=America/New_York:20260205T173000
DTEND;TZID=America/New_York:20260205T183000
DTSTAMP:20260420T030257
CREATED:20260107T164335Z
LAST-MODIFIED:20260107T164343Z
UID:10000021-1770312600-1770316200@www.oceanpartnership.org
SUMMARY:Money Moves for Teens
DESCRIPTION:Join Us for a free Three-Part Workshop on Financial Literacy and take control of your financial future!  Open to Youth Ages 16-21.\n\n\n\nCourse Topics: \n\n\n\n\nWeek 1: Credit\n\n\n\nWeek 2: Budget/Saving\n\n\n\nWeek 3: Fraud\n\n\n\n\nFood and Refreshments Provided! \n\n\n\nFinancial Literacy Course Flyer.pdf
URL:https://www.oceanpartnership.org/event/money-moves-for-teens/2026-02-05/
LOCATION:Ocean Partnership for Children\, 36 Washington St\, Toms River\, New Jersey\, 08753\, United States
END:VEVENT
BEGIN:VEVENT
DTSTART;TZID=America/New_York:20260202T180000
DTEND;TZID=America/New_York:20260202T190000
DTSTAMP:20260420T030257
CREATED:20260107T182244Z
LAST-MODIFIED:20260107T182246Z
UID:10000038-1770055200-1770058800@www.oceanpartnership.org
SUMMARY:Yoga for Teens Youth Group
DESCRIPTION:Supportive Yoga Group Designed to Explore Self-Care and Emotional Well-being.  Learn Practical Tools to Manage Stress\, Build Confidence\, and Feel More Connected\, Seen and Accepted.\n\n\n\nWHEN: Mondays from January 26th – March 16th from 6pm to 7pmWHERE: OPC OfficeWHO CAN JOIN: Open to all teens in Ocean County – no experience necessary \n\n\n\nFREE to all attendees! Supplies will be provided at no cost. \n\n\n\n\n\n\nYoga For Teens Winter 2025 Flyer-ENGEnglish Download\n\n\n\n\n\nYoga For Teens Winter 2025 Flyer-SPANSpanish Download\n\n\n\n\n\n\nQUESTIONS:Contact Kate Dorando (lead facilitator): kdorando@oceanpartnership.org
URL:https://www.oceanpartnership.org/event/yoga-for-teens-youth-group/2026-02-02/
LOCATION:Ocean Partnership for Children\, 36 Washington St\, Toms River\, New Jersey\, 08753\, United States
END:VEVENT
BEGIN:VEVENT
DTSTART;TZID=America/New_York:20260126T180000
DTEND;TZID=America/New_York:20260126T190000
DTSTAMP:20260420T030257
CREATED:20260107T182244Z
LAST-MODIFIED:20260107T182246Z
UID:10000037-1769450400-1769454000@www.oceanpartnership.org
SUMMARY:Yoga for Teens Youth Group
DESCRIPTION:Supportive Yoga Group Designed to Explore Self-Care and Emotional Well-being.  Learn Practical Tools to Manage Stress\, Build Confidence\, and Feel More Connected\, Seen and Accepted.\n\n\n\nWHEN: Mondays from January 26th – March 16th from 6pm to 7pmWHERE: OPC OfficeWHO CAN JOIN: Open to all teens in Ocean County – no experience necessary \n\n\n\nFREE to all attendees! Supplies will be provided at no cost. \n\n\n\n\n\n\nYoga For Teens Winter 2025 Flyer-ENGEnglish Download\n\n\n\n\n\nYoga For Teens Winter 2025 Flyer-SPANSpanish Download\n\n\n\n\n\n\nQUESTIONS:Contact Kate Dorando (lead facilitator): kdorando@oceanpartnership.org
URL:https://www.oceanpartnership.org/event/yoga-for-teens-youth-group/2026-01-26/
LOCATION:Ocean Partnership for Children\, 36 Washington St\, Toms River\, New Jersey\, 08753\, United States
END:VEVENT
BEGIN:VEVENT
DTSTART;TZID=America/New_York:20260122T173000
DTEND;TZID=America/New_York:20260122T183000
DTSTAMP:20260420T030257
CREATED:20260107T164335Z
LAST-MODIFIED:20260107T164343Z
UID:10000020-1769103000-1769106600@www.oceanpartnership.org
SUMMARY:Money Moves for Teens
DESCRIPTION:Join Us for a free Three-Part Workshop on Financial Literacy and take control of your financial future!  Open to Youth Ages 16-21.\n\n\n\nCourse Topics: \n\n\n\n\nWeek 1: Credit\n\n\n\nWeek 2: Budget/Saving\n\n\n\nWeek 3: Fraud\n\n\n\n\nFood and Refreshments Provided! \n\n\n\nFinancial Literacy Course Flyer.pdf
URL:https://www.oceanpartnership.org/event/money-moves-for-teens/2026-01-22/
LOCATION:Ocean Partnership for Children\, 36 Washington St\, Toms River\, New Jersey\, 08753\, United States
END:VEVENT
END:VCALENDAR